BEGIN:VCALENDAR
VERSION:2.0
PRODID:-//Tukios.com/
BEGIN:VEVENT
UID:708a930d-1776-4482-9328-9b5c4da05655@www.radelfuneral.com
DTSTAMP:20260422T213334Z
DTSTART:20260429T150000Z
DTEND:20260429T160000Z
SUMMARY:Mass
DESCRIPTION:
URL:https://www.radelfuneral.com/obituaries/thomas-kennedy
LOCATION:Our Lady of Victory Church 810 Neeb Road  Cincinnati OH 45233
GEO:39.1087809;-84.6352409
END:VEVENT
END:VCALENDAR