BEGIN:VCALENDAR
VERSION:2.0
PRODID:-//Tukios.com/
BEGIN:VEVENT
UID:443cd4e0-fc72-4088-846a-a809468f4058@www.radelfuneral.com
DTSTAMP:20260422T213645Z
DTSTART:20260428T210000Z
DTEND:20260428T230000Z
SUMMARY:Visitation
DESCRIPTION:
URL:https://www.radelfuneral.com/obituaries/thomas-kennedy
LOCATION:Radel Funeral Home 650 Neeb Road  Cincinnati OH 45233
GEO:39.1050568;-84.6360956
END:VEVENT
END:VCALENDAR