BEGIN:VCALENDAR
VERSION:2.0
PRODID:-//Tukios.com/
BEGIN:VEVENT
UID:c0f3d269-660c-415c-860f-921f55619d00@www.radelfuneral.com
DTSTAMP:20260422T195442Z
DTSTART:20260428T180000Z
DTEND:20260428T190000Z
SUMMARY:Burial
DESCRIPTION:
URL:https://www.radelfuneral.com/obituaries/judith-nabors
LOCATION: 4500 Foley Rd  Cincinnati OH 45238
GEO:39.1045553;-84.5994623
END:VEVENT
END:VCALENDAR