BEGIN:VCALENDAR
VERSION:2.0
PRODID:-//Tukios.com/
BEGIN:VEVENT
UID:03a02fd7-73bd-43d4-ad99-4dc2ac514530@www.radelfuneral.com
DTSTAMP:20260422T200027Z
DTSTART:20260428T170000Z
DTEND:20260428T180000Z
SUMMARY:Funeral Service
DESCRIPTION:
URL:https://www.radelfuneral.com/obituaries/judith-nabors
LOCATION: 650 Neeb Rd  Cincinnati OH 45233
GEO:39.1050568;-84.6360956
END:VEVENT
END:VCALENDAR