BEGIN:VCALENDAR
VERSION:2.0
PRODID:-//Tukios.com/
BEGIN:VEVENT
UID:3328a4ad-baa8-4f26-8f8e-acf53dcc2502@www.radelfuneral.com
DTSTAMP:20260422T200307Z
DTSTART:20260428T150000Z
DTEND:20260428T170000Z
SUMMARY:Visitation
DESCRIPTION:
URL:https://www.radelfuneral.com/obituaries/judith-nabors
LOCATION:Radel Funeral Home 650 Neeb Road  Cincinnati OH 45233
GEO:39.1050568;-84.6360956
END:VEVENT
END:VCALENDAR