BEGIN:VCALENDAR
VERSION:2.0
PRODID:-//Tukios.com/
BEGIN:VEVENT
UID:21c82ac5-6474-4c8d-a330-4f035356ff79@www.radelfuneral.com
DTSTAMP:20260421T004721Z
DTSTART:20260425T150000Z
DTEND:20260425T160000Z
SUMMARY:Mass
DESCRIPTION:
URL:https://www.radelfuneral.com/obituaries/charles-jenkins
LOCATION:Our Lady of Victory Church 810 Neeb Road  Cincinnati OH 45233
GEO:39.1087809;-84.6352409
END:VEVENT
END:VCALENDAR