BEGIN:VCALENDAR
VERSION:2.0
PRODID:-//Tukios.com/
BEGIN:VEVENT
UID:b1dc28c9-ee7e-4ec6-9612-18983488805f@www.radelfuneral.com
DTSTAMP:20260421T004631Z
DTSTART:20260424T210000Z
DTEND:20260425T000000Z
SUMMARY:Viewing
DESCRIPTION:
URL:https://www.radelfuneral.com/obituaries/charles-jenkins
LOCATION:Radel Funeral Home 650 Neeb Road  Cincinnati OH 45233
GEO:39.1050568;-84.6360956
END:VEVENT
END:VCALENDAR