BEGIN:VCALENDAR
VERSION:2.0
PRODID:-//Tukios.com/
BEGIN:VEVENT
UID:74f393af-8d09-43a0-b4b1-530aff320089@www.radelfuneral.com
DTSTAMP:20260422T081412Z
DTSTART:20260421T160000Z
DTEND:20260421T180000Z
SUMMARY:Visitation
DESCRIPTION:
URL:https://www.radelfuneral.com/obituaries/cathy-king
LOCATION: 650 Neeb Rd  Cincinnati OH 45233
GEO:39.1050568;-84.6360956
END:VEVENT
END:VCALENDAR